Workbook

Sheet C chart input
A1: size of tolerance
A2: Number of standard deviations | C2: 3 | E2: =2*_xlfn.NORM.S.DIST(C2*(-1), TRUE) -> 0.003
A4: Sample Information | H4: Values for Control Chart
A5: Number | B5: Count | C5: Above or Below acceptable value | H5: mean | I5: standard deviation | J5: Upper Limit | K5: Lower Limit
A6: 1 | B6: 3 | C6: =IF(B6<>"",IF(B6>$J$6,"Above",IF(B6<$K$6,"Below","")),"") | H6: =IF(B6<>"",AVERAGE($B$6:$B$30),"") -> 10.25 | I6: =IF(B6<>"",SQRT($H$6),"") -> 3.2016 | J6: =IF(B6<>"",$H$6+$C$2*$I$6,"") -> 19.855 | K6: =IF(B6<>"",$H$6-$I$6*$C$2,"") -> 0.645
A7: 2 | B7: 14 | C7: =IF(B7<>"",IF(B7>$J$6,"Above",IF(B7<$K$6,"Below","")),"") | H7: =IF(B7<>"",AVERAGE($B$6:$B$30),"") -> 10.25 | I7: =IF(B7<>"",SQRT($H$6),"") -> 3.2016 | J7: =IF(B7<>"",$H$6+$C$2*$I$6,"") -> 19.855 | K7: =IF(B7<>"",$H$6-$I$6*$C$2,"") -> 0.645
A8: 3 | B8: 12 | C8: =IF(B8<>"",IF(B8>$J$6,"Above",IF(B8<$K$6,"Below","")),"") | H8: =IF(B8<>"",AVERAGE($B$6:$B$30),"") -> 10.25 | I8: =IF(B8<>"",SQRT($H$6),"") -> 3.2016 | J8: =IF(B8<>"",$H$6+$C$2*$I$6,"") -> 19.855 | K8: =IF(B8<>"",$H$6-$I$6*$C$2,"") -> 0.645
A9: 4 | B9: 12 | C9: =IF(B9<>"",IF(B9>$J$6,"Above",IF(B9<$K$6,"Below","")),"") | H9: =IF(B9<>"",AVERAGE($B$6:$B$30),"") -> 10.25 | I9: =IF(B9<>"",SQRT($H$6),"") -> 3.2016 | J9: =IF(B9<>"",$H$6+$C$2*$I$6,"") -> 19.855 | K9: =IF(B9<>"",$H$6-$I$6*$C$2,"") -> 0.645
A10: 5 | C10: =IF(B10<>"",IF(B10>$J$6,"Above",IF(B10<$K$6,"Below","")),"") | H10: =IF(B10<>"",AVERAGE($B$6:$B$30),"") | I10: =IF(B10<>"",SQRT($H$6),"") | J10: =IF(B10<>"",$H$6+$C$2*$I$6,"") | K10: =IF(B10<>"",$H$6-$I$6*$C$2,"")
A11: 6 | C11: =IF(B11<>"",IF(B11>$J$6,"Above",IF(B11<$K$6,"Below","")),"") | H11: =IF(B11<>"",AVERAGE($B$6:$B$30),"") | I11: =IF(B11<>"",SQRT($H$6),"") | J11: =IF(B11<>"",$H$6+$C$2*$I$6,"") | K11: =IF(B11<>"",$H$6-$I$6*$C$2,"")
A12: 7 | C12: =IF(B12<>"",IF(B12>$J$6,"Above",IF(B12<$K$6,"Below","")),"") | H12: =IF(B12<>"",AVERAGE($B$6:$B$30),"") | I12: =IF(B12<>"",SQRT($H$6),"") | J12: =IF(B12<>"",$H$6+$C$2*$I$6,"") | K12: =IF(B12<>"",$H$6-$I$6*$C$2,"")
A13: 8 | C13: =IF(B13<>"",IF(B13>$J$6,"Above",IF(B13<$K$6,"Below","")),"") | H13: =IF(B13<>"",AVERAGE($B$6:$B$30),"") | I13: =IF(B13<>"",SQRT($H$6),"") | J13: =IF(B13<>"",$H$6+$C$2*$I$6,"") | K13: =IF(B13<>"",$H$6-$I$6*$C$2,"")
A14: 9 | C14: =IF(B14<>"",IF(B14>$J$6,"Above",IF(B14<$K$6,"Below","")),"") | H14: =IF(B14<>"",AVERAGE($B$6:$B$30),"") | I14: =IF(B14<>"",SQRT($H$6),"") | J14: =IF(B14<>"",$H$6+$C$2*$I$6,"") | K14: =IF(B14<>"",$H$6-$I$6*$C$2,"")
A15: 10 | C15: =IF(B15<>"",IF(B15>$J$6,"Above",IF(B15<$K$6,"Below","")),"") | H15: =IF(B15<>"",AVERAGE($B$6:$B$30),"") | I15: =IF(B15<>"",SQRT($H$6),"") | J15: =IF(B15<>"",$H$6+$C$2*$I$6,"") | K15: =IF(B15<>"",$H$6-$I$6*$C$2,"")
A16: 11 | C16: =IF(B16<>"",IF(B16>$J$6,"Above",IF(B16<$K$6,"Below","")),"") | H16: =IF(B16<>"",AVERAGE($B$6:$B$30),"") | I16: =IF(B16<>"",SQRT($H$6),"") | J16: =IF(B16<>"",$H$6+$C$2*$I$6,"") | K16: =IF(B16<>"",$H$6-$I$6*$C$2,"")
A17: 12 | C17: =IF(B17<>"",IF(B17>$J$6,"Above",IF(B17<$K$6,"Below","")),"") | H17: =IF(B17<>"",AVERAGE($B$6:$B$30),"") | I17: =IF(B17<>"",SQRT($H$6),"") | J17: =IF(B17<>"",$H$6+$C$2*$I$6,"") | K17: =IF(B17<>"",$H$6-$I$6*$C$2,"")
A18: 13 | C18: =IF(B18<>"",IF(B18>$J$6,"Above",IF(B18<$K$6,"Below","")),"") | H18: =IF(B18<>"",AVERAGE($B$6:$B$30),"") | I18: =IF(B18<>"",SQRT($H$6),"") | J18: =IF(B18<>"",$H$6+$C$2*$I$6,"") | K18: =IF(B18<>"",$H$6-$I$6*$C$2,"")
A19: 14 | C19: =IF(B19<>"",IF(B19>$J$6,"Above",IF(B19<$K$6,"Below","")),"") | H19: =IF(B19<>"",AVERAGE($B$6:$B$30),"") | I19: =IF(B19<>"",SQRT($H$6),"") | J19: =IF(B19<>"",$H$6+$C$2*$I$6,"") | K19: =IF(B19<>"",$H$6-$I$6*$C$2,"")
A20: 15 | C20: =IF(B20<>"",IF(B20>$J$6,"Above",IF(B20<$K$6,"Below","")),"") | H20: =IF(B20<>"",AVERAGE($B$6:$B$30),"") | I20: =IF(B20<>"",SQRT($H$6),"") | J20: =IF(B20<>"",$H$6+$C$2*$I$6,"") | K20: =IF(B20<>"",$H$6-$I$6*$C$2,"")
A21: 16 | C21: =IF(B21<>"",IF(B21>$J$6,"Above",IF(B21<$K$6,"Below","")),"") | H21: =IF(B21<>"",AVERAGE($B$6:$B$30),"") | I21: =IF(B21<>"",SQRT($H$6),"") | J21: =IF(B21<>"",$H$6+$C$2*$I$6,"") | K21: =IF(B21<>"",$H$6-$I$6*$C$2,"")
... A30: 25 | C30: =IF(B30<>"",IF(B30>$J$6,"Above",IF(B30<$K$6,"Below","")),"") | H30: =IF(B30<>"",AVERAGE($B$6:$B$30),"") | I30: =IF(B30<>"",SQRT($H$6),"") | J30: =IF(B30<>"",$H$6+$C$2*$I$6,"") | K30: =IF(B30<>"",$H$6-$I$6*$C$2,"")

Sheet p-chart alpha not given
B1: Information From Samples | K1: Sample Summary | Q1: Color Key:
B2: Sample number | C2: Number of Defects | D2: Number in Sample | E2: Percent of defects | F2: Average of Defects | G2: Upper Limit | H2: Lower Limit | I2: Above or Below accepted value | K2: Total defects | O2: =SUM(C3:C21) -> 165 | Q2: Cells that require student input
B3: 1 | C3: 15 | D3: 30 | E3: =IF(D3<>"",C3/D3,"") -> 0.5 | F3: =IF(D3<>"",$O$4,"") -> 0.521 | G3: =IF(D3<>"",$O$9,"") -> 0.521 | H3: =IF(D3<>"",$O$10,"") -> 0.521 | I3: =IF(D3<>"",IF(E3>G3,"Above",IF(E3<H3,"Below","")),"") -> Below | K3: Total sampled | O3: =SUM(D3:D21) -> 317 | Q3: Excel Intermediate Calculations
B4: 2 | C4: 18 | D4: 25 | E4: =IF(D4<>"",C4/D4,"") -> 0.72 | F4: =IF(D4<>"",$O$4,"") -> 0.521 | G4: =IF(D4<>"",$O$9,"") -> 0.521 | H4: =IF(D4<>"",$O$10,"") -> 0.521 | I4: =IF(D4<>"",IF(E4>G4,"Above",IF(E4<H4,"Below","")),"") -> Above | K4: average proportion | O4: =O2/O3 -> 0.52050473 | Q4: Excel Calculated Results
B5: 3 | C5: 12 | D5: 35 | E5: =IF(D5<>"",C5/D5,"") -> 0.3429 | F5: =IF(D5<>"",$O$4,"") -> 0.521 | G5: =IF(D5<>"",$O$9,"") -> 0.521 | H5: =IF(D5<>"",$O$10,"") -> 0.521 | I5: =IF(D5<>"",IF(E5>G5,"Above",IF(E5<H5,"Below","")),"") -> Below | K5: standard error of the proportion | O5: =SQRT(O4*(1-O4)/AVERAGE(D3:D21)) -> 0.088730897 | Q5: Major Headings
B6: 4 | C6: 17 | D6: 32 | E6: =IF(D6<>"",C6/D6,"") -> 0.5313 | F6: =IF(D6<>"",$O$4,"") -> 0.521 | G6: =IF(D6<>"",$O$9,"") -> 0.521 | H6: =IF(D6<>"",$O$10,"") -> 0.521 | I6: =IF(D6<>"",IF(E6>G6,"Above",IF(E6<H6,"Below","")),"") -> Above | Q6: Minor Headings
B7: 5 | C7: 29 | D7: 38 | E7: =IF(D7<>"",C7/D7,"") -> 0.7632 | F7: =IF(D7<>"",$O$4,"") -> 0.521 | G7: =IF(D7<>"",$O$9,"") -> 0.521 | H7: =IF(D7<>"",$O$10,"") -> 0.521 | I7: =IF(D7<>"",IF(E7>G7,"Above",IF(E7<H7,"Below","")),"") -> Above | K7: Standard Deviations above and below average | Q7: Reference/Check Points
B8: 6 | C8: 2 | D8: 29 | E8: =IF(D8<>"",C8/D8,"") -> 0.069 | F8: =IF(D8<>"",$O$4,"") -> 0.521 | G8: =IF(D8<>"",$O$9,"") -> 0.521 | H8: =IF(D8<>"",$O$10,"") -> 0.521 | I8: =IF(D8<>"",IF(E8>G8,"Above",IF(E8<H8,"Below","")),"") -> Below | K8: Probability of outside of Tolerance (1-confidence interval) | O8: =1-(_xlfn.NORM.DIST(O7,0,1,TRUE)-_xlfn.NORM.DIST(-1*O7,0,1,TRUE)) -> 1
B9: 7 | C9: 16 | D9: 28 | E9: =IF(D9<>"",C9/D9,"") -> 0.5714 | F9: =IF(D9<>"",$O$4,"") -> 0.521 | G9: =IF(D9<>"",$O$9,"") -> 0.521 | H9: =IF(D9<>"",$O$10,"") -> 0.521 | I9: =IF(D9<>"",IF(E9>G9,"Above",IF(E9<H9,"Below","")),"") -> Above | K9: Upper Limit | O9: =O4+O5*O7 -> 0.5205
B10: 8 | C10: 24 | D10: 40 | E10: =IF(D10<>"",C10/D10,"") -> 0.6 | F10: =IF(D10<>"",$O$4,"") -> 0.521 | G10: =IF(D10<>"",$O$9,"") -> 0.521 | H10: =IF(D10<>"",$O$10,"") -> 0.521 | I10: =IF(D10<>"",IF(E10>G10,"Above",IF(E10<H10,"Below","")),"") -> Above | K10: Lower Limit | O10: =O4-O5*O7 -> 0.5205
B11: 9 | C11: 13 | D11: 27 | E11: =IF(D11<>"",C11/D11,"") -> 0.4815 | F11: =IF(D11<>"",$O$4,"") -> 0.521 | G11: =IF(D11<>"",$O$9,"") -> 0.521 | H11: =IF(D11<>"",$O$10,"") -> 0.521 | I11: =IF(D11<>"",IF(E11>G11,"Above",IF(E11<H11,"Below","")),"") -> Below
B12: 10 | C12: 19 | D12: 33 | E12: =IF(D12<>"",C12/D12,"") -> 0.5758 | F12: =IF(D12<>"",$O$4,"") -> 0.521 | G12: =IF(D12<>"",$O$9,"") -> 0.521 | H12: =IF(D12<>"",$O$10,"") -> 0.521 | I12: =IF(D12<>"",IF(E12>G12,"Above",IF(E12<H12,"Below","")),"") -> Above
B13: 11 | E13: =IF(D13<>"",C13/D13,"") | F13: =IF(D13<>"",$O$4,"") | G13: =IF(D13<>"",$O$9,"") | H13: =IF(D13<>"",$O$10,"") | I13: =IF(D13<>"",IF(E13>G13,"Above",IF(E13<H13,"Below","")),"")
B14: 12 | E14: =IF(D14<>"",C14/D14,"") | F14: =IF(D14<>"",$O$4,"") | G14: =IF(D14<>"",$O$9,"") | H14: =IF(D14<>"",$O$10,"") | I14: =IF(D14<>"",IF(E14>G14,"Above",IF(E14<H14,"Below","")),"")
B15: 13 | E15: =IF(D15<>"",C15/D15,"") | F15: =IF(D15<>"",$O$4,"") | G15: =IF(D15<>"",$O$9,"") | H15: =IF(D15<>"",$O$10,"") | I15: =IF(D15<>"",IF(E15>G15,"Above",IF(E15<H15,"Below","")),"")
B16: 14 | E16: =IF(D16<>"",C16/D16,"") | F16: =IF(D16<>"",$O$4,"") | G16: =IF(D16<>"",$O$9,"") | H16: =IF(D16<>"",$O$10,"") | I16: =IF(D16<>"",IF(E16>G16,"Above",IF(E16<H16,"Below","")),"")
B17: 15 | E17: =IF(D17<>"",C17/D17,"") | F17: =IF(D17<>"",$O$4,"") | G17: =IF(D17<>"",$O$9,"") | H17: =IF(D17<>"",$O$10,"") | I17: =IF(D17<>"",IF(E17>G17,"Above",IF(E17<H17,"Below","")),"")
B18: 16 | E18: =IF(D18<>"",C18/D18,"") | F18: =IF(D18<>"",$O$4,"") | G18: =IF(D18<>"",$O$9,"") | H18: =IF(D18<>"",$O$10,"") | I18: =IF(D18<>"",IF(E18>G18,"Above",IF(E18<H18,"Below","")),"")
B19: 17 | E19: =IF(D19<>"",C19/D19,"") | F19: =IF(D19<>"",$O$4,"") | G19: =IF(D19<>"",$O$9,"") | H19: =IF(D19<>"",$O$10,"") | I19: =IF(D19<>"",IF(E19>G19,"Above",IF(E19<H19,"Below","")),"")
B20: 18 | E20: =IF(D20<>"",C20/D20,"") | F20: =IF(D20<>"",$O$4,"") | G20: =IF(D20<>"",$O$9,"") | H20: =IF(D20<>"",$O$10,"") | I20: =IF(D20<>"",IF(E20>G20,"Above",IF(E20<H20,"Below","")),"")
B21: 19 | E21: =IF(D21<>"",C21/D21,"") | F21: =IF(D21<>"",$O$4,"") | G21: =IF(D21<>"",$O$9,"") | H21: =IF(D21<>"",$O$10,"") | I21: =IF(D21<>"",IF(E21>G21,"Above",IF(E21<H21,"Below","")),"")

Sheet p-chart alpha given
B1: Information From Samples | K1: Sample Summary | Q1: Color Key:
B2: Sample number | C2: Number of Defects | D2: Number in Sample | E2: Percent of defects | F2: Average of Defects | G2: Upper Limit | H2: Lower Limit | I2: Above or Below accepted value | K2: Total defects | O2: =SUM(C3:C21) -> 165 | Q2: Cells that require student input
B3: 1 | C3: 15 | D3: 30 | E3: =IF(D3<>"",C3/D3,"") -> 0.5 | F3: =IF(D3<>"",$O$4,"") -> 0.521 | G3: =IF(D3<>"",$O$10,"") -> 0.954 | H3: =IF(D3<>"",$O$11,"") -> 0.087 | I3: =IF(D3<>"",IF(E3>G3,"Above",IF(E3<H3,"Below","")),"") | K3: Total sampled | O3: =SUM(D3:D21) -> 317 | Q3: Excel Intermediate Calculations
B4: 2 | C4: 18 | D4: 25 | E4: =IF(D4<>"",C4/D4,"") -> 0.72 | F4: =IF(D4<>"",$O$4,"") -> 0.521 | G4: =IF(D4<>"",$O$10,"") -> 0.954 | H4: =IF(D4<>"",$O$11,"") -> 0.087 | I4: =IF(D4<>"",IF(E4>G4,"Above",IF(E4<H4,"Below","")),"") | K4: average proportion | O4: =O2/O3 -> 0.52050473 | Q4: Excel Calculated Results
B5: 3 | C5: 12 | D5: 35 | E5: =IF(D5<>"",C5/D5,"") -> 0.3429 | F5: =IF(D5<>"",$O$4,"") -> 0.521 | G5: =IF(D5<>"",$O$10,"") -> 0.954 | H5: =IF(D5<>"",$O$11,"") -> 0.087 | I5: =IF(D5<>"",IF(E5>G5,"Above",IF(E5<H5,"Below","")),"") | K5: standard error of the proportion | O5: =SQRT(O4*(1-O4)/AVERAGE(D3:D21)) -> 0.088730897 | Q5: Major Headings
B6: 4 | C6: 17 | D6: 32 | E6: =IF(D6<>"",C6/D6,"") -> 0.5313 | F6: =IF(D6<>"",$O$4,"") -> 0.521 | G6: =IF(D6<>"",$O$10,"") -> 0.954 | H6: =IF(D6<>"",$O$11,"") -> 0.087 | I6: =IF(D6<>"",IF(E6>G6,"Above",IF(E6<H6,"Below","")),"") | Q6: Minor Headings
B7: 5 | C7: 29 | D7: 38 | E7: =IF(D7<>"",C7/D7,"") -> 0.7632 | F7: =IF(D7<>"",$O$4,"") -> 0.521 | G7: =IF(D7<>"",$O$10,"") -> 0.954 | H7: =IF(D7<>"",$O$11,"") -> 0.087 | I7: =IF(D7<>"",IF(E7>G7,"Above",IF(E7<H7,"Below","")),"") | K7: alpha | O7: 1e-06 | Q7: Reference/Check Points
B8: 6 | C8: 2 | D8: 29 | E8: =IF(D8<>"",C8/D8,"") -> 0.069 | F8: =IF(D8<>"",$O$4,"") -> 0.521 | G8: =IF(D8<>"",$O$10,"") -> 0.954 | H8: =IF(D8<>"",$O$11,"") -> 0.087 | I8: =IF(D8<>"",IF(E8>G8,"Above",IF(E8<H8,"Below","")),"") -> Below | N8: z value calculated | O8: =ABS(_xlfn.NORM.INV(O7/2,0,1)) -> 4.89
B9: 7 | C9: 16 | D9: 28 | E9: =IF(D9<>"",C9/D9,"") -> 0.5714 | F9: =IF(D9<>"",$O$4,"") -> 0.521 | G9: =IF(D9<>"",$O$10,"") -> 0.954 | H9: =IF(D9<>"",$O$11,"") -> 0.087 | I9: =IF(D9<>"",IF(E9>G9,"Above",IF(E9<H9,"Below","")),"") | K9: Probability of outside of Tolerance (1-confidence interval) | O9: =1-(_xlfn.NORM.DIST(O8,0,1,TRUE)-_xlfn.NORM.DIST(-1*O8,0,1,TRUE)) -> 0
B10: 8 | C10: 24 | D10: 40 | E10: =IF(D10<>"",C10/D10,"") -> 0.6 | F10: =IF(D10<>"",$O$4,"") -> 0.521 | G10: =IF(D10<>"",$O$10,"") -> 0.954 | H10: =IF(D10<>"",$O$11,"") -> 0.087 | I10: =IF(D10<>"",IF(E10>G10,"Above",IF(E10<H10,"Below","")),"") | K10: Upper Limit | O10: =O4+O5*O8 -> 0.9544
B11: 9 | C11: 13 | D11: 27 | E11: =IF(D11<>"",C11/D11,"") -> 0.4815 | F11: =IF(D11<>"",$O$4,"") -> 0.521 | G11: =IF(D11<>"",$O$10,"") -> 0.954 | H11: =IF(D11<>"",$O$11,"") -> 0.087 | I11: =IF(D11<>"",IF(E11>G11,"Above",IF(E11<H11,"Below","")),"") | K11: Lower Limit | O11: =O4-O5*O8 -> 0.0866
B12: 10 | C12: 19 | D12: 33 | E12: =IF(D12<>"",C12/D12,"") -> 0.5758 | F12: =IF(D12<>"",$O$4,"") -> 0.521 | G12: =IF(D12<>"",$O$10,"") -> 0.954 | H12: =IF(D12<>"",$O$11,"") -> 0.087 | I12: =IF(D12<>"",IF(E12>G12,"Above",IF(E12<H12,"Below","")),"")
B13: 11 | E13: =IF(D13<>"",C13/D13,"") | F13: =IF(D13<>"",$O$4,"") | G13: =IF(D13<>"",$O$10,"") | H13: =IF(D13<>"",$O$11,"") | I13: =IF(D13<>"",IF(E13>G13,"Above",IF(E13<H13,"Below","")),"")
B14: 12 | E14: =IF(D14<>"",C14/D14,"") | F14: =IF(D14<>"",$O$4,"") | G14: =IF(D14<>"",$O$10,"") | H14: =IF(D14<>"",$O$11,"") | I14: =IF(D14<>"",IF(E14>G14,"Above",IF(E14<H14,"Below","")),"")
B15: 13 | E15: =IF(D15<>"",C15/D15,"") | F15: =IF(D15<>"",$O$4,"") | G15: =IF(D15<>"",$O$10,"") | H15: =IF(D15<>"",$O$11,"") | I15: =IF(D15<>"",IF(E15>G15,"Above",IF(E15<H15,"Below","")),"")
B16: 14 | E16: =IF(D16<>"",C16/D16,"") | F16: =IF(D16<>"",$O$4,"") | G16: =IF(D16<>"",$O$10,"") | H16: =IF(D16<>"",$O$11,"") | I16: =IF(D16<>"",IF(E16>G16,"Above",IF(E16<H16,"Below","")),"")
B17: 15 | E17: =IF(D17<>"",C17/D17,"") | F17: =IF(D17<>"",$O$4,"") | G17: =IF(D17<>"",$O$10,"") | H17: =IF(D17<>"",$O$11,"") | I17: =IF(D17<>"",IF(E17>G17,"Above",IF(E17<H17,"Below","")),"")
B18: 16 | E18: =IF(D18<>"",C18/D18,"") | F18: =IF(D18<>"",$O$4,"") | G18: =IF(D18<>"",$O$10,"") | H18: =IF(D18<>"",$O$11,"") | I18: =IF(D18<>"",IF(E18>G18,"Above",IF(E18<H18,"Below","")),"")
B19: 17 | E19: =IF(D19<>"",C19/D19,"") | F19: =IF(D19<>"",$O$4,"") | G19: =IF(D19<>"",$O$10,"") | H19: =IF(D19<>"",$O$11,"") | I19: =IF(D19<>"",IF(E19>G19,"Above",IF(E19<H19,"Below","")),"")
B20: 18 | E20: =IF(D20<>"",C20/D20,"") | F20: =IF(D20<>"",$O$4,"") | G20: =IF(D20<>"",$O$10,"") | H20: =IF(D20<>"",$O$11,"") | I20: =IF(D20<>"",IF(E20>G20,"Above",IF(E20<H20,"Below","")),"")
B21: 19 | E21: =IF(D21<>"",C21/D21,"") | F21: =IF(D21<>"",$O$4,"") | G21: =IF(D21<>"",$O$10,"") | H21: =IF(D21<>"",$O$11,"") | I21: =IF(D21<>"",IF(E21>G21,"Above",IF(E21<H21,"Below","")),"")

Sheet xbar and r chart raw data input
B1: Size of Samples | AE1: Color Key:
B2: Sample Size | D2: 3 | AE2: Cells that require student input
AE3: Excel Intermediate Calculations
B4: Raw Data Collected for Sample | P4: Compiled Sample Information | T4: Determine Samples that are not in Range Tolerance | Y4: Determine Samples that are not in Mean Tolerance | AE4: Excel Calculated Results
B5: Sample Number | C5: Item 1 | D5: Item 2 | E5: Item 3 | F5: Item 4 | G5: Item 5 | H5: Item 6 | I5: Item 7 | J5: Item 8 | K5: Item 9 | L5: Item 10 | M5: Item 11 | N5: Item 12 | P5: Sample | Q5: Range | R5: average | T5: Upper Lmit Range | U5: r bar center line | V5: Lower Limit Range | W5: Above or Below acceptable value | Y5: Upper Limit x bar | Z5: x bar center line | AA5: Lower Limit x bar | AB5: Above or Below acceptable value | AE5: Major Headings
B6: 1 | C6: 0.97 | D6: 1 | E6: 1.04 | P6: 1 | Q6: =IF(C6<>"",MAX(C6:N6)-MIN(C6:N6),"") -> 0.07 | R6: =IF(C6<>"",AVERAGE(C6:N6),"") -> 1.0033 | T6: =IF(Q6<>"",U6*VLOOKUP($D$2,'table for xbar and r chart'!$A$1:$E$25,5),"") -> 0.147 | U6: =IF(Q6<>"",AVERAGE($Q$6:$Q$26),"") -> 0.057 | V6: =IF(Q6<>"",U6*VLOOKUP($D$2,'table for xbar and r chart'!$A$1:$E$25,4),"") -> 0 | W6: =IF(Q6<>"",IF(Q6>T6,"Above",IF(Q6<V6,"Below","")),"") | Y6: =IF(Q6<>"",Z6+VLOOKUP($D$2,'table for xbar and r chart'!$A$1:$E$25,2)*U6,"") -> 1.058 | Z6: =IF(Q6<>"",AVERAGE($R$6:$R$26),"") -> 1 | AA6: =IF(Q6<>"",Z6-VLOOKUP($D$2,'table for xbar and r chart'!$A$1:$E$25,2)*U6,"") -> 0.942 | AB6: =IF(R6<>"",IF(R6>Y6,"Above",IF(R6<AA6,"Below","")),"") | AE6: Minor Headings
B7: 2 | C7: 0.96 | D7: 0.97 | E7: 1.01 | P7: 2 | Q7: =IF(C7<>"",MAX(C7:N7)-MIN(C7:N7),"") -> 0.05 | R7: =IF(C7<>"",AVERAGE(C7:N7),"") -> 0.98 | T7: =IF(Q7<>"",U7*VLOOKUP($D$2,'table for xbar and r chart'!$A$1:$E$25,5),"") -> 0.147 | U7: =IF(Q7<>"",AVERAGE($Q$6:$Q$26),"") -> 0.057 | V7: =IF(Q7<>"",U7*VLOOKUP($D$2,'table for xbar and r chart'!$A$1:$E$25,4),"") -> 0 | W7: =IF(Q7<>"",IF(Q7>T7,"Above",IF(Q7<V7,"Below","")),"") | Y7: =IF(Q7<>"",Z7+VLOOKUP($D$2,'table for xbar and r chart'!$A$1:$E$25,2)*U7,"") -> 1.058 | Z7: =IF(Q7<>"",AVERAGE($R$6:$R$26),"") -> 1 | AA7: =IF(Q7<>"",Z7-VLOOKUP($D$2,'table for xbar and r chart'!$A$1:$E$25,2)*U7,"") -> 0.942 | AB7: =IF(R7<>"",IF(R7>Y7,"Above",IF(R7<AA7,"Below","")),"") | AE7: Reference/Check Points
B8: 3 | C8: 0.99 | D8: 1.01 | E8: 1.04 | P8: 3 | Q8: =IF(C8<>"",MAX(C8:N8)-MIN(C8:N8),"") -> 0.05 | R8: =IF(C8<>"",AVERAGE(C8:N8),"") -> 1.0133 | T8: =IF(Q8<>"",U8*VLOOKUP($D$2,'table for xbar and r chart'!$A$1:$E$25,5),"") -> 0.147 | U8: =IF(Q8<>"",AVERAGE($Q$6:$Q$26),"") -> 0.057 | V8: =IF(Q8<>"",U8*VLOOKUP($D$2,'table for xbar and r chart'!$A$1:$E$25,4),"") -> 0 | W8: =IF(Q8<>"",IF(Q8>T8,"Above",IF(Q8<V8,"Below","")),"") | Y8: =IF(Q8<>"",Z8+VLOOKUP($D$2,'table for xbar and r chart'!$A$1:$E$25,2)*U8,"") -> 1.058 | Z8: =IF(Q8<>"",AVERAGE($R$6:$R$26),"") -> 1 | AA8: =IF(Q8<>"",Z8-VLOOKUP($D$2,'table for xbar and r chart'!$A$1:$E$25,2)*U8,"") -> 0.942 | AB8: =IF(R8<>"",IF(R8>Y8,"Above",IF(R8<AA8,"Below","")),"")
B9: 4 | C9: 1.01 | D9: 0.98 | E9: 0.97 | P9: 4 | Q9: =IF(C9<>"",MAX(C9:N9)-MIN(C9:N9),"") -> 0.04 | R9: =IF(C9<>"",AVERAGE(C9:N9),"") -> 0.9867 | T9: =IF(Q9<>"",U9*VLOOKUP($D$2,'table for xbar and r chart'!$A$1:$E$25,5),"") -> 0.147 | U9: =IF(Q9<>"",AVERAGE($Q$6:$Q$26),"") -> 0.057 | V9: =IF(Q9<>"",U9*VLOOKUP($D$2,'table for xbar and r chart'!$A$1:$E$25,4),"") -> 0 | W9: =IF(Q9<>"",IF(Q9>T9,"Above",IF(Q9<V9,"Below","")),"") | Y9: =IF(Q9<>"",Z9+VLOOKUP($D$2,'table for xbar and r chart'!$A$1:$E$25,2)*U9,"") -> 1.058 | Z9: =IF(Q9<>"",AVERAGE($R$6:$R$26),"") -> 1 | AA9: =IF(Q9<>"",Z9-VLOOKUP($D$2,'table for xbar and r chart'!$A$1:$E$25,2)*U9,"") -> 0.942 | AB9: =IF(R9<>"",IF(R9>Y9,"Above",IF(R9<AA9,"Below","")),"")
B10: 5 | C10: 0.99 | D10: 1.04 | E10: 1.04 | P10: 5 | Q10: =IF(C10<>"",MAX(C10:N10)-MIN(C10:N10),"") -> 0.05 | R10: =IF(C10<>"",AVERAGE(C10:N10),"") -> 1.0233 | T10: =IF(Q10<>"",U10*VLOOKUP($D$2,'table for xbar and r chart'!$A$1:$E$25,5),"") -> 0.147 | U10: =IF(Q10<>"",AVERAGE($Q$6:$Q$26),"") -> 0.057 | V10: =IF(Q10<>"",U10*VLOOKUP($D$2,'table for xbar and r chart'!$A$1:$E$25,4),"") -> 0 | W10: =IF(Q10<>"",IF(Q10>T10,"Above",IF(Q10<V10,"Below","")),"") | Y10: =IF(Q10<>"",Z10+VLOOKUP($D$2,'table for xbar and r chart'!$A$1:$E$25,2)*U10,"") -> 1.058 | Z10: =IF(Q10<>"",AVERAGE($R$6:$R$26),"") -> 1 | AA10: =IF(Q10<>"",Z10-VLOOKUP($D$2,'table for xbar and r chart'!$A$1:$E$25,2)*U10,"") -> 0.942 | AB10: =IF(R10<>"",IF(R10>Y10,"Above",IF(R10<AA10,"Below","")),"")
B11: 6 | C11: 0.99 | D11: 1.03 | E11: 0.96 | P11: 6 | Q11: =IF(C11<>"",MAX(C11:N11)-MIN(C11:N11),"") -> 0.07 | R11: =IF(C11<>"",AVERAGE(C11:N11),"") -> 0.9933 | T11: =IF(Q11<>"",U11*VLOOKUP($D$2,'table for xbar and r chart'!$A$1:$E$25,5),"") -> 0.147 | U11: =IF(Q11<>"",AVERAGE($Q$6:$Q$26),"") -> 0.057 | V11: =IF(Q11<>"",U11*VLOOKUP($D$2,'table for xbar and r chart'!$A$1:$E$25,4),"") -> 0 | W11: =IF(Q11<>"",IF(Q11>T11,"Above",IF(Q11<V11,"Below","")),"") | Y11: =IF(Q11<>"",Z11+VLOOKUP($D$2,'table for xbar and r chart'!$A$1:$E$25,2)*U11,"") -> 1.058 | Z11: =IF(Q11<>"",AVERAGE($R$6:$R$26),"") -> 1 | AA11: =IF(Q11<>"",Z11-VLOOKUP($D$2,'table for xbar and r chart'!$A$1:$E$25,2)*U11,"") -> 0.942 | AB11: =IF(R11<>"",IF(R11>Y11,"Above",IF(R11<AA11,"Below","")),"")
B12: 7 | C12: 0.98 | D12: 1.05 | E12: 0.96 | P12: 7 | Q12: =IF(C12<>"",MAX(C12:N12)-MIN(C12:N12),"") -> 0.09 | R12: =IF(C12<>"",AVERAGE(C12:N12),"") -> 0.9967 | T12: =IF(Q12<>"",U12*VLOOKUP($D$2,'table for xbar and r chart'!$A$1:$E$25,5),"") -> 0.147 | U12: =IF(Q12<>"",AVERAGE($Q$6:$Q$26),"") -> 0.057 | V12: =IF(Q12<>"",U12*VLOOKUP($D$2,'table for xbar and r chart'!$A$1:$E$25,4),"") -> 0 | W12: =IF(Q12<>"",IF(Q12>T12,"Above",IF(Q12<V12,"Below","")),"") | Y12: =IF(Q12<>"",Z12+VLOOKUP($D$2,'table for xbar and r chart'!$A$1:$E$25,2)*U12,"") -> 1.058 | Z12: =IF(Q12<>"",AVERAGE($R$6:$R$26),"") -> 1 | AA12: =IF(Q12<>"",Z12-VLOOKUP($D$2,'table for xbar and r chart'!$A$1:$E$25,2)*U12,"") -> 0.942 | AB12: =IF(R12<>"",IF(R12>Y12,"Above",IF(R12<AA12,"Below","")),"")
B13: 8 | C13: 1.02 | D13: 1.04 | E13: 1 | P13: 8 | Q13: =IF(C13<>"",MAX(C13:N13)-MIN(C13:N13),"") -> 0.04 | R13: =IF(C13<>"",AVERAGE(C13:N13),"") -> 1.02 | T13: =IF(Q13<>"",U13*VLOOKUP($D$2,'table for xbar and r chart'!$A$1:$E$25,5),"") -> 0.147 | U13: =IF(Q13<>"",AVERAGE($Q$6:$Q$26),"") -> 0.057 | V13: =IF(Q13<>"",U13*VLOOKUP($D$2,'table for xbar and r chart'!$A$1:$E$25,4),"") -> 0 | W13: =IF(Q13<>"",IF(Q13>T13,"Above",IF(Q13<V13,"Below","")),"") | Y13: =IF(Q13<>"",Z13+VLOOKUP($D$2,'table for xbar and r chart'!$A$1:$E$25,2)*U13,"") -> 1.058 | Z13: =IF(Q13<>"",AVERAGE($R$6:$R$26),"") -> 1 | AA13: =IF(Q13<>"",Z13-VLOOKUP($D$2,'table for xbar and r chart'!$A$1:$E$25,2)*U13,"") -> 0.942 | AB13: =IF(R13<>"",IF(R13>Y13,"Above",IF(R13<AA13,"Below","")),"")
B14: 9 | C14: 1.04 | D14: 1.03 | E14: 0.98 | P14: 9 | Q14: =IF(C14<>"",MAX(C14:N14)-MIN(C14:N14),"") -> 0.06 | R14: =IF(C14<>"",AVERAGE(C14:N14),"") -> 1.0167 | T14: =IF(Q14<>"",U14*VLOOKUP($D$2,'table for xbar and r chart'!$A$1:$E$25,5),"") -> 0.147 | U14: =IF(Q14<>"",AVERAGE($Q$6:$Q$26),"") -> 0.057 | V14: =IF(Q14<>"",U14*VLOOKUP($D$2,'table for xbar and r chart'!$A$1:$E$25,4),"") -> 0 | W14: =IF(Q14<>"",IF(Q14>T14,"Above",IF(Q14<V14,"Below","")),"") | Y14: =IF(Q14<>"",Z14+VLOOKUP($D$2,'table for xbar and r chart'!$A$1:$E$25,2)*U14,"") -> 1.058 | Z14: =IF(Q14<>"",AVERAGE($R$6:$R$26),"") -> 1 | AA14: =IF(Q14<>"",Z14-VLOOKUP($D$2,'table for xbar and r chart'!$A$1:$E$25,2)*U14,"") -> 0.942 | AB14: =IF(R14<>"",IF(R14>Y14,"Above",IF(R14<AA14,"Below","")),"")
B15: 10 | C15: 1.04 | D15: 1.03 | E15: 0.99 | P15: 10 | Q15: =IF(C15<>"",MAX(C15:N15)-MIN(C15:N15),"") -> 0.05 | R15: =IF(C15<>"",AVERAGE(C15:N15),"") -> 1.02 | T15: =IF(Q15<>"",U15*VLOOKUP($D$2,'table for xbar and r chart'!$A$1:$E$25,5),"") -> 0.147 | U15: =IF(Q15<>"",AVERAGE($Q$6:$Q$26),"") -> 0.057 | V15: =IF(Q15<>"",U15*VLOOKUP($D$2,'table for xbar and r chart'!$A$1:$E$25,4),"") -> 0 | W15: =IF(Q15<>"",IF(Q15>T15,"Above",IF(Q15<V15,"Below","")),"") | Y15: =IF(Q15<>"",Z15+VLOOKUP($D$2,'table for xbar and r chart'!$A$1:$E$25,2)*U15,"") -> 1.058 | Z15: =IF(Q15<>"",AVERAGE($R$6:$R$26),"") -> 1 | AA15: =IF(Q15<>"",Z15-VLOOKUP($D$2,'table for xbar and r chart'!$A$1:$E$25,2)*U15,"") -> 0.942 | AB15: =IF(R15<>"",IF(R15>Y15,"Above",IF(R15<AA15,"Below","")),"")
B16: 11 | C16: 1.01 | D16: 0.97 | E16: 0.96 | P16: 11 | Q16: =IF(C16<>"",MAX(C16:N16)-MIN(C16:N16),"") -> 0.05 | R16: =IF(C16<>"",AVERAGE(C16:N16),"") -> 0.98 | T16: =IF(Q16<>"",U16*VLOOKUP($D$2,'table for xbar and r chart'!$A$1:$E$25,5),"") -> 0.147 | U16: =IF(Q16<>"",AVERAGE($Q$6:$Q$26),"") -> 0.057 | V16: =IF(Q16<>"",U16*VLOOKUP($D$2,'table for xbar and r chart'!$A$1:$E$25,4),"") -> 0 | W16: =IF(Q16<>"",IF(Q16>T16,"Above",IF(Q16<V16,"Below","")),"") | Y16: =IF(Q16<>"",Z16+VLOOKUP($D$2,'table for xbar and r chart'!$A$1:$E$25,2)*U16,"") -> 1.058 | Z16: =IF(Q16<>"",AVERAGE($R$6:$R$26),"") -> 1 | AA16: =IF(Q16<>"",Z16-VLOOKUP($D$2,'table for xbar and r chart'!$A$1:$E$25,2)*U16,"") -> 0.942 | AB16: =IF(R16<>"",IF(R16>Y16,"Above",IF(R16<AA16,"Below","")),"")
B17: 12 | C17: 0.98 | D17: 0.98 | E17: 1.01 | P17: 12 | Q17: =IF(C17<>"",MAX(C17:N17)-MIN(C17:N17),"") -> 0.03 | R17: =IF(C17<>"",AVERAGE(C17:N17),"") -> 0.99 | T17: =IF(Q17<>"",U17*VLOOKUP($D$2,'table for xbar and r chart'!$A$1:$E$25,5),"") -> 0.147 | U17: =IF(Q17<>"",AVERAGE($Q$6:$Q$26),"") -> 0.057 | V17: =IF(Q17<>"",U17*VLOOKUP($D$2,'table for xbar and r chart'!$A$1:$E$25,4),"") -> 0 | W17: =IF(Q17<>"",IF(Q17>T17,"Above",IF(Q17<V17,"Below","")),"") | Y17: =IF(Q17<>"",Z17+VLOOKUP($D$2,'table for xbar and r chart'!$A$1:$E$25,2)*U17,"") -> 1.058 | Z17: =IF(Q17<>"",AVERAGE($R$6:$R$26),"") -> 1 | AA17: =IF(Q17<>"",Z17-VLOOKUP($D$2,'table for xbar and r chart'!$A$1:$E$25,2)*U17,"") -> 0.942 | AB17: =IF(R17<>"",IF(R17>Y17,"Above",IF(R17<AA17,"Below","")),"")
B18: 13 | C18: 0.95 | D18: 1.05 | E18: 1.04 | P18: 13 | Q18: =IF(C18<>"",MAX(C18:N18)-MIN(C18:N18),"") -> 0.1 | R18: =IF(C18<>"",AVERAGE(C18:N18),"") -> 1.0133 | T18: =IF(Q18<>"",U18*VLOOKUP($D$2,'table for xbar and r chart'!$A$1:$E$25,5),"") -> 0.147 | U18: =IF(Q18<>"",AVERAGE($Q$6:$Q$26),"") -> 0.057 | V18: =IF(Q18<>"",U18*VLOOKUP($D$2,'table for xbar and r chart'!$A$1:$E$25,4),"") -> 0 | W18: =IF(Q18<>"",IF(Q18>T18,"Above",IF(Q18<V18,"Below","")),"") | Y18: =IF(Q18<>"",Z18+VLOOKUP($D$2,'table for xbar and r chart'!$A$1:$E$25,2)*U18,"") -> 1.058 | Z18: =IF(Q18<>"",AVERAGE($R$6:$R$26),"") -> 1 | AA18: =IF(Q18<>"",Z18-VLOOKUP($D$2,'table for xbar and r chart'!$A$1:$E$25,2)*U18,"") -> 0.942 | AB18: =IF(R18<>"",IF(R18>Y18,"Above",IF(R18<AA18,"Below","")),"")
B19: 14 | C19: 0.97 | D19: 1.01 | E19: 0.98 | P19: 14 | Q19: =IF(C19<>"",MAX(C19:N19)-MIN(C19:N19),"") -> 0.04 | R19: =IF(C19<>"",AVERAGE(C19:N19),"") -> 0.9867 | T19: =IF(Q19<>"",U19*VLOOKUP($D$2,'table for xbar and r chart'!$A$1:$E$25,5),"") -> 0.147 | U19: =IF(Q19<>"",AVERAGE($Q$6:$Q$26),"") -> 0.057 | V19: =IF(Q19<>"",U19*VLOOKUP($D$2,'table for xbar and r chart'!$A$1:$E$25,4),"") -> 0 | W19: =IF(Q19<>"",IF(Q19>T19,"Above",IF(Q19<V19,"Below","")),"") | Y19: =IF(Q19<>"",Z19+VLOOKUP($D$2,'table for xbar and r chart'!$A$1:$E$25,2)*U19,"") -> 1.058 | Z19: =IF(Q19<>"",AVERAGE($R$6:$R$26),"") -> 1 | AA19: =IF(Q19<>"",Z19-VLOOKUP($D$2,'table for xbar and r chart'!$A$1:$E$25,2)*U19,"") -> 0.942 | AB19: =IF(R19<>"",IF(R19>Y19,"Above",IF(R19<AA19,"Below","")),"")
B20: 15 | C20: 0.97 | D20: 1.01 | E20: 0.95 | P20: 15 | Q20: =IF(C20<>"",MAX(C20:N20)-MIN(C20:N20),"") -> 0.06 | R20: =IF(C20<>"",AVERAGE(C20:N20),"") -> 0.9767 | T20: =IF(Q20<>"",U20*VLOOKUP($D$2,'table for xbar and r chart'!$A$1:$E$25,5),"") -> 0.147 | U20: =IF(Q20<>"",AVERAGE($Q$6:$Q$26),"") -> 0.057 | V20: =IF(Q20<>"",U20*VLOOKUP($D$2,'table for xbar and r chart'!$A$1:$E$25,4),"") -> 0 | W20: =IF(Q20<>"",IF(Q20>T20,"Above",IF(Q20<V20,"Below","")),"") | Y20: =IF(Q20<>"",Z20+VLOOKUP($D$2,'table for xbar and r chart'!$A$1:$E$25,2)*U20,"") -> 1.058 | Z20: =IF(Q20<>"",AVERAGE($R$6:$R$26),"") -> 1 | AA20: =IF(Q20<>"",Z20-VLOOKUP($D$2,'table for xbar and r chart'!$A$1:$E$25,2)*U20,"") -> 0.942 | AB20: =IF(R20<>"",IF(R20>Y20,"Above",IF(R20<AA20,"Below","")),"")
B21: 16 | P21: 16 | Q21: =IF(C21<>"",MAX(C21:N21)-MIN(C21:N21),"") | R21: =IF(C21<>"",AVERAGE(C21:N21),"") | T21: =IF(Q21<>"",U21*VLOOKUP($D$2,'table for xbar and r chart'!$A$1:$E$25,5),"") | U21: =IF(Q21<>"",AVERAGE($Q$6:$Q$26),"") | V21: =IF(Q21<>"",U21*VLOOKUP($D$2,'table for xbar and r chart'!$A$1:$E$25,4),"") | W21: =IF(Q21<>"",IF(Q21>T21,"Above",IF(Q21<V21,"Below","")),"") | Y21: =IF(Q21<>"",Z21+VLOOKUP($D$2,'table for xbar and r chart'!$A$1:$E$25,2)*U21,"") | Z21: =IF(Q21<>"",AVERAGE($R$6:$R$26),"") | AA21: =IF(Q21<>"",Z21-VLOOKUP($D$2,'table for xbar and r chart'!$A$1:$E$25,2)*U21,"") | AB21: =IF(R21<>"",IF(R21>Y21,"Above",IF(R21<AA21,"Below","")),"")
B22: 17 | P22: 17 | Q22: =IF(C22<>"",MAX(C22:N22)-MIN(C22:N22),"") | R22: =IF(C22<>"",AVERAGE(C22:N22),"") | T22: =IF(Q22<>"",U22*VLOOKUP($D$2,'table for xbar and r chart'!$A$1:$E$25,5),"") | U22: =IF(Q22<>"",AVERAGE($Q$6:$Q$26),"") | V22: =IF(Q22<>"",U22*VLOOKUP($D$2,'table for xbar and r chart'!$A$1:$E$25,4),"") | W22: =IF(Q22<>"",IF(Q22>T22,"Above",IF(Q22<V22,"Below","")),"") | Y22: =IF(Q22<>"",Z22+VLOOKUP($D$2,'table for xbar and r chart'!$A$1:$E$25,2)*U22,"") | Z22: =IF(Q22<>"",AVERAGE($R$6:$R$26),"") | AA22: =IF(Q22<>"",Z22-VLOOKUP($D$2,'table for xbar and r chart'!$A$1:$E$25,2)*U22,"") | AB22: =IF(R22<>"",IF(R22>Y22,"Above",IF(R22<AA22,"Below","")),"")
B23: 18 | P23: 18 | Q23: =IF(C23<>"",MAX(C23:N23)-MIN(C23:N23),"") | R23: =IF(C23<>"",AVERAGE(C23:N23),"") | T23: =IF(Q23<>"",U23*VLOOKUP($D$2,'table for xbar and r chart'!$A$1:$E$25,5),"") | U23: =IF(Q23<>"",AVERAGE($Q$6:$Q$26),"") | V23: =IF(Q23<>"",U23*VLOOKUP($D$2,'table for xbar and r chart'!$A$1:$E$25,4),"") | W23: =IF(Q23<>"",IF(Q23>T23,"Above",IF(Q23<V23,"Below","")),"") | Y23: =IF(Q23<>"",Z23+VLOOKUP($D$2,'table for xbar and r chart'!$A$1:$E$25,2)*U23,"") | Z23: =IF(Q23<>"",AVERAGE($R$6:$R$26),"") | AA23: =IF(Q23<>"",Z23-VLOOKUP($D$2,'table for xbar and r chart'!$A$1:$E$25,2)*U23,"") | AB23: =IF(R23<>"",IF(R23>Y23,"Above",IF(R23<AA23,"Below","")),"")
B24: 19 | P24: 19 | Q24: =IF(C24<>"",MAX(C24:N24)-MIN(C24:N24),"") | R24: =IF(C24<>"",AVERAGE(C24:N24),"") | T24: =IF(Q24<>"",U24*VLOOKUP($D$2,'table for xbar and r chart'!$A$1:$E$25,5),"") | U24: =IF(Q24<>"",AVERAGE($Q$6:$Q$26),"") | V24: =IF(Q24<>"",U24*VLOOKUP($D$2,'table for xbar and r chart'!$A$1:$E$25,4),"") | W24: =IF(Q24<>"",IF(Q24>T24,"Above",IF(Q24<V24,"Below","")),"") | Y24: =IF(Q24<>"",Z24+VLOOKUP($D$2,'table for xbar and r chart'!$A$1:$E$25,2)*U24,"") | Z24: =IF(Q24<>"",AVERAGE($R$6:$R$26),"") | AA24: =IF(Q24<>"",Z24-VLOOKUP($D$2,'table for xbar and r chart'!$A$1:$E$25,2)*U24,"") | AB24: =IF(R24<>"",IF(R24>Y24,"Above",IF(R24<AA24,"Below","")),"")
B25: 20 | P25: 20 | Q25: =IF(C25<>"",MAX(C25:N25)-MIN(C25:N25),"") | R25: =IF(C25<>"",AVERAGE(C25:N25),"") | T25: =IF(Q25<>"",U25*VLOOKUP($D$2,'table for xbar and r chart'!$A$1:$E$25,5),"") | U25: =IF(Q25<>"",AVERAGE($Q$6:$Q$26),"") | V25: =IF(Q25<>"",U25*VLOOKUP($D$2,'table for xbar and r chart'!$A$1:$E$25,4),"") | W25: =IF(Q25<>"",IF(Q25>T25,"Above",IF(Q25<V25,"Below","")),"") | Y25: =IF(Q25<>"",Z25+VLOOKUP($D$2,'table for xbar and r chart'!$A$1:$E$25,2)*U25,"") | Z25: =IF(Q25<>"",AVERAGE($R$6:$R$26),"") | AA25: =IF(Q25<>"",Z25-VLOOKUP($D$2,'table for xbar and r chart'!$A$1:$E$25,2)*U25,"") | AB25: =IF(R25<>"",IF(R25>Y25,"Above",IF(R25<AA25,"Below","")),"")
B26: 21 | P26: 21 | Q26: =IF(C26<>"",MAX(C26:N26)-MIN(C26:N26),"") | R26: =IF(C26<>"",AVERAGE(C26:N26),"") | T26: =IF(Q26<>"",U26*VLOOKUP($D$2,'table for xbar and r chart'!$A$1:$E$25,5),"") | U26: =IF(Q26<>"",AVERAGE($Q$6:$Q$26),"") | V26: =IF(Q26<>"",U26*VLOOKUP($D$2,'table for xbar and r chart'!$A$1:$E$25,4),"") | W26: =IF(Q26<>"",IF(Q26>T26,"Above",IF(Q26<V26,"Below","")),"") | Y26: =IF(Q26<>"",Z26+VLOOKUP($D$2,'table for xbar and r chart'!$A$1:$E$25,2)*U26,"") | Z26: =IF(Q26<>"",AVERAGE($R$6:$R$26),"") | AA26: =IF(Q26<>"",Z26-VLOOKUP($D$2,'table for xbar and r chart'!$A$1:$E$25,2)*U26,"") | AB26: =IF(R26<>"",IF(R26>Y26,"Above",IF(R26<AA26,"Below","")),"")

Sheet xbar and r chart compiled data 
B1: Size of Samples | P1: Color Key:
B2: Sample Size | C2: 10 | P2: Cells that require student input
P3: Excel Intermediate Calculations
B4: Compiled Sample Information | F4: Determine Samples that are not in Range Tolerance | K4: Determine Samples that are not in Mean Tolerance | P4: Excel Calculated Results
B5: Sample | C5: Range | D5: average | F5: Upper Lmit Range | G5: r bar center line | H5: Lower Limit Range | I5: Above or Below acceptable value | K5: Upper Limit x bar | L5: x bar center line | M5: Lower Limit x bar | N5: Above or Below acceptable value | P5: Major Headings
B6: 1 | C6: 5 | D6: 21 | F6: =IF(C6<>"",G6*VLOOKUP($C$2,'table for xbar and r chart'!$A$1:$E$25,5),"") -> 8.974 | G6: =IF(C6<>"",AVERAGE($C$6:$C$26),"") -> 5.05 | H6: =IF(C6<>"",G6*VLOOKUP($C$2,'table for xbar and r chart'!$A$1:$E$25,4),"") -> 1.126 | I6: =IF(C6<>"",IF(C6>F6,"Above",IF(C6<H6,"Below","")),"") | K6: =IF(C6<>"",L6+VLOOKUP($C$2,'table for xbar and r chart'!$A$1:$E$25,2)*G6,"") -> 21.955 | L6: =IF(C6<>"",AVERAGE($D$6:$D$26),"") -> 20.4 | M6: =IF(C6<>"",L6-VLOOKUP($C$2,'table for xbar and r chart'!$A$1:$E$25,2)*G6,"") -> 18.845 | N6: =IF(D6<>"",IF(D6>K6,"Above",IF(D6<M6,"Below","")),"") | P6: Minor Headings
B7: 2 | C7: 4 | D7: 20 | F7: =IF(C7<>"",G7*VLOOKUP($C$2,'table for xbar and r chart'!$A$1:$E$25,5),"") -> 8.974 | G7: =IF(C7<>"",AVERAGE($C$6:$C$26),"") -> 5.05 | H7: =IF(C7<>"",G7*VLOOKUP($C$2,'table for xbar and r chart'!$A$1:$E$25,4),"") -> 1.126 | I7: =IF(C7<>"",IF(C7>F7,"Above",IF(C7<H7,"Below","")),"") | K7: =IF(C7<>"",L7+VLOOKUP($C$2,'table for xbar and r chart'!$A$1:$E$25,2)*G7,"") -> 21.955 | L7: =IF(C7<>"",AVERAGE($D$6:$D$26),"") -> 20.4 | M7: =IF(C7<>"",L7-VLOOKUP($C$2,'table for xbar and r chart'!$A$1:$E$25,2)*G7,"") -> 18.845 | N7: =IF(D7<>"",IF(D7>K7,"Above",IF(D7<M7,"Below","")),"") | P7: Reference/Check Points
B8: 3 | C8: 2 | D8: 23 | F8: =IF(C8<>"",G8*VLOOKUP($C$2,'table for xbar and r chart'!$A$1:$E$25,5),"") -> 8.974 | G8: =IF(C8<>"",AVERAGE($C$6:$C$26),"") -> 5.05 | H8: =IF(C8<>"",G8*VLOOKUP($C$2,'table for xbar and r chart'!$A$1:$E$25,4),"") -> 1.126 | I8: =IF(C8<>"",IF(C8>F8,"Above",IF(C8<H8,"Below","")),"") | K8: =IF(C8<>"",L8+VLOOKUP($C$2,'table for xbar and r chart'!$A$1:$E$25,2)*G8,"") -> 21.955 | L8: =IF(C8<>"",AVERAGE($D$6:$D$26),"") -> 20.4 | M8: =IF(C8<>"",L8-VLOOKUP($C$2,'table for xbar and r chart'!$A$1:$E$25,2)*G8,"") -> 18.845 | N8: =IF(D8<>"",IF(D8>K8,"Above",IF(D8<M8,"Below","")),"") -> Above
B9: 4 | C9: 3.5 | D9: 17 | F9: =IF(C9<>"",G9*VLOOKUP($C$2,'table for xbar and r chart'!$A$1:$E$25,5),"") -> 8.974 | G9: =IF(C9<>"",AVERAGE($C$6:$C$26),"") -> 5.05 | H9: =IF(C9<>"",G9*VLOOKUP($C$2,'table for xbar and r chart'!$A$1:$E$25,4),"") -> 1.126 | I9: =IF(C9<>"",IF(C9>F9,"Above",IF(C9<H9,"Below","")),"") | K9: =IF(C9<>"",L9+VLOOKUP($C$2,'table for xbar and r chart'!$A$1:$E$25,2)*G9,"") -> 21.955 | L9: =IF(C9<>"",AVERAGE($D$6:$D$26),"") -> 20.4 | M9: =IF(C9<>"",L9-VLOOKUP($C$2,'table for xbar and r chart'!$A$1:$E$25,2)*G9,"") -> 18.845 | N9: =IF(D9<>"",IF(D9>K9,"Above",IF(D9<M9,"Below","")),"") -> Below
B10: 5 | C10: 7 | D10: 18.5 | F10: =IF(C10<>"",G10*VLOOKUP($C$2,'table for xbar and r chart'!$A$1:$E$25,5),"") -> 8.974 | G10: =IF(C10<>"",AVERAGE($C$6:$C$26),"") -> 5.05 | H10: =IF(C10<>"",G10*VLOOKUP($C$2,'table for xbar and r chart'!$A$1:$E$25,4),"") -> 1.126 | I10: =IF(C10<>"",IF(C10>F10,"Above",IF(C10<H10,"Below","")),"") | K10: =IF(C10<>"",L10+VLOOKUP($C$2,'table for xbar and r chart'!$A$1:$E$25,2)*G10,"") -> 21.955 | L10: =IF(C10<>"",AVERAGE($D$6:$D$26),"") -> 20.4 | M10: =IF(C10<>"",L10-VLOOKUP($C$2,'table for xbar and r chart'!$A$1:$E$25,2)*G10,"") -> 18.845 | N10: =IF(D10<>"",IF(D10>K10,"Above",IF(D10<M10,"Below","")),"") -> Below
B11: 6 | C11: 5.75 | D11: 21.5 | F11: =IF(C11<>"",G11*VLOOKUP($C$2,'table for xbar and r chart'!$A$1:$E$25,5),"") -> 8.974 | G11: =IF(C11<>"",AVERAGE($C$6:$C$26),"") -> 5.05 | H11: =IF(C11<>"",G11*VLOOKUP($C$2,'table for xbar and r chart'!$A$1:$E$25,4),"") -> 1.126 | I11: =IF(C11<>"",IF(C11>F11,"Above",IF(C11<H11,"Below","")),"") | K11: =IF(C11<>"",L11+VLOOKUP($C$2,'table for xbar and r chart'!$A$1:$E$25,2)*G11,"") -> 21.955 | L11: =IF(C11<>"",AVERAGE($D$6:$D$26),"") -> 20.4 | M11: =IF(C11<>"",L11-VLOOKUP($C$2,'table for xbar and r chart'!$A$1:$E$25,2)*G11,"") -> 18.845 | N11: =IF(D11<>"",IF(D11>K11,"Above",IF(D11<M11,"Below","")),"")
B12: 7 | C12: 3.25 | D12: 20.25 | F12: =IF(C12<>"",G12*VLOOKUP($C$2,'table for xbar and r chart'!$A$1:$E$25,5),"") -> 8.974 | G12: =IF(C12<>"",AVERAGE($C$6:$C$26),"") -> 5.05 | H12: =IF(C12<>"",G12*VLOOKUP($C$2,'table for xbar and r chart'!$A$1:$E$25,4),"") -> 1.126 | I12: =IF(C12<>"",IF(C12>F12,"Above",IF(C12<H12,"Below","")),"") | K12: =IF(C12<>"",L12+VLOOKUP($C$2,'table for xbar and r chart'!$A$1:$E$25,2)*G12,"") -> 21.955 | L12: =IF(C12<>"",AVERAGE($D$6:$D$26),"") -> 20.4 | M12: =IF(C12<>"",L12-VLOOKUP($C$2,'table for xbar and r chart'!$A$1:$E$25,2)*G12,"") -> 18.845 | N12: =IF(D12<>"",IF(D12>K12,"Above",IF(D12<M12,"Below","")),"")
B13: 8 | C13: 12 | D13: 21 | F13: =IF(C13<>"",G13*VLOOKUP($C$2,'table for xbar and r chart'!$A$1:$E$25,5),"") -> 8.974 | G13: =IF(C13<>"",AVERAGE($C$6:$C$26),"") -> 5.05 | H13: =IF(C13<>"",G13*VLOOKUP($C$2,'table for xbar and r chart'!$A$1:$E$25,4),"") -> 1.126 | I13: =IF(C13<>"",IF(C13>F13,"Above",IF(C13<H13,"Below","")),"") -> Above | K13: =IF(C13<>"",L13+VLOOKUP($C$2,'table for xbar and r chart'!$A$1:$E$25,2)*G13,"") -> 21.955 | L13: =IF(C13<>"",AVERAGE($D$6:$D$26),"") -> 20.4 | M13: =IF(C13<>"",L13-VLOOKUP($C$2,'table for xbar and r chart'!$A$1:$E$25,2)*G13,"") -> 18.845 | N13: =IF(D13<>"",IF(D13>K13,"Above",IF(D13<M13,"Below","")),"")
B14: 9 | C14: 5 | D14: 19.75 | F14: =IF(C14<>"",G14*VLOOKUP($C$2,'table for xbar and r chart'!$A$1:$E$25,5),"") -> 8.974 | G14: =IF(C14<>"",AVERAGE($C$6:$C$26),"") -> 5.05 | H14: =IF(C14<>"",G14*VLOOKUP($C$2,'table for xbar and r chart'!$A$1:$E$25,4),"") -> 1.126 | I14: =IF(C14<>"",IF(C14>F14,"Above",IF(C14<H14,"Below","")),"") | K14: =IF(C14<>"",L14+VLOOKUP($C$2,'table for xbar and r chart'!$A$1:$E$25,2)*G14,"") -> 21.955 | L14: =IF(C14<>"",AVERAGE($D$6:$D$26),"") -> 20.4 | M14: =IF(C14<>"",L14-VLOOKUP($C$2,'table for xbar and r chart'!$A$1:$E$25,2)*G14,"") -> 18.845 | N14: =IF(D14<>"",IF(D14>K14,"Above",IF(D14<M14,"Below","")),"")
B15: 10 | C15: 3 | D15: 22 | F15: =IF(C15<>"",G15*VLOOKUP($C$2,'table for xbar and r chart'!$A$1:$E$25,5),"") -> 8.974 | G15: =IF(C15<>"",AVERAGE($C$6:$C$26),"") -> 5.05 | H15: =IF(C15<>"",G15*VLOOKUP($C$2,'table for xbar and r chart'!$A$1:$E$25,4),"") -> 1.126 | I15: =IF(C15<>"",IF(C15>F15,"Above",IF(C15<H15,"Below","")),"") | K15: =IF(C15<>"",L15+VLOOKUP($C$2,'table for xbar and r chart'!$A$1:$E$25,2)*G15,"") -> 21.955 | L15: =IF(C15<>"",AVERAGE($D$6:$D$26),"") -> 20.4 | M15: =IF(C15<>"",L15-VLOOKUP($C$2,'table for xbar and r chart'!$A$1:$E$25,2)*G15,"") -> 18.845 | N15: =IF(D15<>"",IF(D15>K15,"Above",IF(D15<M15,"Below","")),"") -> Above
B16: 11 | F16: =IF(C16<>"",G16*VLOOKUP($C$2,'table for xbar and r chart'!$A$1:$E$25,5),"") | G16: =IF(C16<>"",AVERAGE($C$6:$C$26),"") | H16: =IF(C16<>"",G16*VLOOKUP($C$2,'table for xbar and r chart'!$A$1:$E$25,4),"") | I16: =IF(C16<>"",IF(C16>F16,"Above",IF(C16<H16,"Below","")),"") | K16: =IF(C16<>"",L16+VLOOKUP($C$2,'table for xbar and r chart'!$A$1:$E$25,2)*G16,"") | L16: =IF(C16<>"",AVERAGE($D$6:$D$26),"") | M16: =IF(C16<>"",L16-VLOOKUP($C$2,'table for xbar and r chart'!$A$1:$E$25,2)*G16,"") | N16: =IF(D16<>"",IF(D16>K16,"Above",IF(D16<M16,"Below","")),"")
B17: 12 | F17: =IF(C17<>"",G17*VLOOKUP($C$2,'table for xbar and r chart'!$A$1:$E$25,5),"") | G17: =IF(C17<>"",AVERAGE($C$6:$C$26),"") | H17: =IF(C17<>"",G17*VLOOKUP($C$2,'table for xbar and r chart'!$A$1:$E$25,4),"") | I17: =IF(C17<>"",IF(C17>F17,"Above",IF(C17<H17,"Below","")),"") | K17: =IF(C17<>"",L17+VLOOKUP($C$2,'table for xbar and r chart'!$A$1:$E$25,2)*G17,"") | L17: =IF(C17<>"",AVERAGE($D$6:$D$26),"") | M17: =IF(C17<>"",L17-VLOOKUP($C$2,'table for xbar and r chart'!$A$1:$E$25,2)*G17,"") | N17: =IF(D17<>"",IF(D17>K17,"Above",IF(D17<M17,"Below","")),"")
B18: 13 | F18: =IF(C18<>"",G18*VLOOKUP($C$2,'table for xbar and r chart'!$A$1:$E$25,5),"") | G18: =IF(C18<>"",AVERAGE($C$6:$C$26),"") | H18: =IF(C18<>"",G18*VLOOKUP($C$2,'table for xbar and r chart'!$A$1:$E$25,4),"") | I18: =IF(C18<>"",IF(C18>F18,"Above",IF(C18<H18,"Below","")),"") | K18: =IF(C18<>"",L18+VLOOKUP($C$2,'table for xbar and r chart'!$A$1:$E$25,2)*G18,"") | L18: =IF(C18<>"",AVERAGE($D$6:$D$26),"") | M18: =IF(C18<>"",L18-VLOOKUP($C$2,'table for xbar and r chart'!$A$1:$E$25,2)*G18,"") | N18: =IF(D18<>"",IF(D18>K18,"Above",IF(D18<M18,"Below","")),"")
B19: 14 | F19: =IF(C19<>"",G19*VLOOKUP($C$2,'table for xbar and r chart'!$A$1:$E$25,5),"") | G19: =IF(C19<>"",AVERAGE($C$6:$C$26),"") | H19: =IF(C19<>"",G19*VLOOKUP($C$2,'table for xbar and r chart'!$A$1:$E$25,4),"") | I19: =IF(C19<>"",IF(C19>F19,"Above",IF(C19<H19,"Below","")),"") | K19: =IF(C19<>"",L19+VLOOKUP($C$2,'table for xbar and r chart'!$A$1:$E$25,2)*G19,"") | L19: =IF(C19<>"",AVERAGE($D$6:$D$26),"") | M19: =IF(C19<>"",L19-VLOOKUP($C$2,'table for xbar and r chart'!$A$1:$E$25,2)*G19,"") | N19: =IF(D19<>"",IF(D19>K19,"Above",IF(D19<M19,"Below","")),"")
B20: 15 | F20: =IF(C20<>"",G20*VLOOKUP($C$2,'table for xbar and r chart'!$A$1:$E$25,5),"") | G20: =IF(C20<>"",AVERAGE($C$6:$C$26),"") | H20: =IF(C20<>"",G20*VLOOKUP($C$2,'table for xbar and r chart'!$A$1:$E$25,4),"") | I20: =IF(C20<>"",IF(C20>F20,"Above",IF(C20<H20,"Below","")),"") | K20: =IF(C20<>"",L20+VLOOKUP($C$2,'table for xbar and r chart'!$A$1:$E$25,2)*G20,"") | L20: =IF(C20<>"",AVERAGE($D$6:$D$26),"") | M20: =IF(C20<>"",L20-VLOOKUP($C$2,'table for xbar and r chart'!$A$1:$E$25,2)*G20,"") | N20: =IF(D20<>"",IF(D20>K20,"Above",IF(D20<M20,"Below","")),"")
B21: 16 | F21: =IF(C21<>"",G21*VLOOKUP($C$2,'table for xbar and r chart'!$A$1:$E$25,5),"") | G21: =IF(C21<>"",AVERAGE($C$6:$C$26),"") | H21: =IF(C21<>"",G21*VLOOKUP($C$2,'table for xbar and r chart'!$A$1:$E$25,4),"") | I21: =IF(C21<>"",IF(C21>F21,"Above",IF(C21<H21,"Below","")),"") | K21: =IF(C21<>"",L21+VLOOKUP($C$2,'table for xbar and r chart'!$A$1:$E$25,2)*G21,"") | L21: =IF(C21<>"",AVERAGE($D$6:$D$26),"") | M21: =IF(C21<>"",L21-VLOOKUP($C$2,'table for xbar and r chart'!$A$1:$E$25,2)*G21,"") | N21: =IF(D21<>"",IF(D21>K21,"Above",IF(D21<M21,"Below","")),"")
B22: 17 | F22: =IF(C22<>"",G22*VLOOKUP($C$2,'table for xbar and r chart'!$A$1:$E$25,5),"") | G22: =IF(C22<>"",AVERAGE($C$6:$C$26),"") | H22: =IF(C22<>"",G22*VLOOKUP($C$2,'table for xbar and r chart'!$A$1:$E$25,4),"") | I22: =IF(C22<>"",IF(C22>F22,"Above",IF(C22<H22,"Below","")),"") | K22: =IF(C22<>"",L22+VLOOKUP($C$2,'table for xbar and r chart'!$A$1:$E$25,2)*G22,"") | L22: =IF(C22<>"",AVERAGE($D$6:$D$26),"") | M22: =IF(C22<>"",L22-VLOOKUP($C$2,'table for xbar and r chart'!$A$1:$E$25,2)*G22,"") | N22: =IF(D22<>"",IF(D22>K22,"Above",IF(D22<M22,"Below","")),"")
B23: 18 | F23: =IF(C23<>"",G23*VLOOKUP($C$2,'table for xbar and r chart'!$A$1:$E$25,5),"") | G23: =IF(C23<>"",AVERAGE($C$6:$C$26),"") | H23: =IF(C23<>"",G23*VLOOKUP($C$2,'table for xbar and r chart'!$A$1:$E$25,4),"") | I23: =IF(C23<>"",IF(C23>F23,"Above",IF(C23<H23,"Below","")),"") | K23: =IF(C23<>"",L23+VLOOKUP($C$2,'table for xbar and r chart'!$A$1:$E$25,2)*G23,"") | L23: =IF(C23<>"",AVERAGE($D$6:$D$26),"") | M23: =IF(C23<>"",L23-VLOOKUP($C$2,'table for xbar and r chart'!$A$1:$E$25,2)*G23,"") | N23: =IF(D23<>"",IF(D23>K23,"Above",IF(D23<M23,"Below","")),"")
B24: 19 | F24: =IF(C24<>"",G24*VLOOKUP($C$2,'table for xbar and r chart'!$A$1:$E$25,5),"") | G24: =IF(C24<>"",AVERAGE($C$6:$C$26),"") | H24: =IF(C24<>"",G24*VLOOKUP($C$2,'table for xbar and r chart'!$A$1:$E$25,4),"") | I24: =IF(C24<>"",IF(C24>F24,"Above",IF(C24<H24,"Below","")),"") | K24: =IF(C24<>"",L24+VLOOKUP($C$2,'table for xbar and r chart'!$A$1:$E$25,2)*G24,"") | L24: =IF(C24<>"",AVERAGE($D$6:$D$26),"") | M24: =IF(C24<>"",L24-VLOOKUP($C$2,'table for xbar and r chart'!$A$1:$E$25,2)*G24,"") | N24: =IF(D24<>"",IF(D24>K24,"Above",IF(D24<M24,"Below","")),"")
B25: 20 | F25: =IF(C25<>"",G25*VLOOKUP($C$2,'table for xbar and r chart'!$A$1:$E$25,5),"") | G25: =IF(C25<>"",AVERAGE($C$6:$C$26),"") | H25: =IF(C25<>"",G25*VLOOKUP($C$2,'table for xbar and r chart'!$A$1:$E$25,4),"") | I25: =IF(C25<>"",IF(C25>F25,"Above",IF(C25<H25,"Below","")),"") | K25: =IF(C25<>"",L25+VLOOKUP($C$2,'table for xbar and r chart'!$A$1:$E$25,2)*G25,"") | L25: =IF(C25<>"",AVERAGE($D$6:$D$26),"") | M25: =IF(C25<>"",L25-VLOOKUP($C$2,'table for xbar and r chart'!$A$1:$E$25,2)*G25,"") | N25: =IF(D25<>"",IF(D25>K25,"Above",IF(D25<M25,"Below","")),"")
B26: 21 | F26: =IF(C26<>"",G26*VLOOKUP($C$2,'table for xbar and r chart'!$A$1:$E$25,5),"") | G26: =IF(C26<>"",AVERAGE($C$6:$C$26),"") | H26: =IF(C26<>"",G26*VLOOKUP($C$2,'table for xbar and r chart'!$A$1:$E$25,4),"") | I26: =IF(C26<>"",IF(C26>F26,"Above",IF(C26<H26,"Below","")),"") | K26: =IF(C26<>"",L26+VLOOKUP($C$2,'table for xbar and r chart'!$A$1:$E$25,2)*G26,"") | L26: =IF(C26<>"",AVERAGE($D$6:$D$26),"") | M26: =IF(C26<>"",L26-VLOOKUP($C$2,'table for xbar and r chart'!$A$1:$E$25,2)*G26,"") | N26: =IF(D26<>"",IF(D26>K26,"Above",IF(D26<M26,"Below","")),"")

Sheet table for xbar and r chart
A1: SampeSize | B1: A2 | C1: d2 | D1: D3 | E1: D4
A2: 2 | B2: 1.88 | C2: 1.128 | D2: 0 | E2: 3.268
A3: 3 | B3: 1.023 | C3: 1.693 | D3: 0 | E3: 2.574
A4: 4 | B4: 0.729 | C4: 2.059 | D4: 0 | E4: 2.282
A5: 5 | B5: 0.577 | C5: 2.326 | D5: 0 | E5: 2.114
A6: 6 | B6: 0.483 | C6: 2.534 | D6: 0 | E6: 2.004
A7: 7 | B7: 0.419 | C7: 2.704 | D7: 0.076 | E7: 1.924
A8: 8 | B8: 0.373 | C8: 2.847 | D8: 0.136 | E8: 1.864
A9: 9 | B9: 0.337 | C9: 2.97 | D9: 0.184 | E9: 1.816
A10: 10 | B10: 0.308 | C10: 3.078 | D10: 0.223 | E10: 1.777
A11: 11 | B11: 0.285 | C11: 3.173 | D11: 0.256 | E11: 1.744
A12: 12 | B12: 0.266 | C12: 3.258 | D12: 0.283 | E12: 1.717
A13: 13 | B13: 0.249 | C13: 3.336 | D13: 0.307 | E13: 1.693
... A25: 25 | B25: 0.153 | C25: 3.931 | D25: 0.459 | E25: 1.541
